BEGIN:VCALENDAR
VERSION:2.0
PRODID:-//jEvents 2.0 for Joomla//EN
CALSCALE:GREGORIAN
METHOD:PUBLISH
BEGIN:VTIMEZONE
TZID:Europe/Berlin
END:VTIMEZONE
BEGIN:VEVENT
UID:c58d872eefd852f90024c34c20356198
CATEGORIES:Veranstaltungen
CREATED:20240106T131914
SUMMARY:Helferfrühschoppen
DESCRIPTION:
DTSTAMP:20260422T184258
DTSTART;TZID=Europe/Berlin:20240407T110000
SEQUENCE:0
TRANSP:OPAQUE
END:VEVENT
END:VCALENDAR