BEGIN:VCALENDAR
VERSION:2.0
PRODID:-//jEvents 2.0 for Joomla//EN
CALSCALE:GREGORIAN
METHOD:PUBLISH
BEGIN:VTIMEZONE
TZID:Europe/Berlin
END:VTIMEZONE
BEGIN:VEVENT
UID:cc88adffe4656dbea6d3e555e23607f1
CATEGORIES:Diverse
CREATED:20240106T131950
SUMMARY:Bundesdelegiertenversammlung
DESCRIPTION:
DTSTAMP:20260422T203422
DTSTART;TZID=Europe/Berlin;VALUE=DATE:20240413
DTEND;TZID=Europe/Berlin;VALUE=DATE:20240414
SEQUENCE:0
TRANSP:OPAQUE
END:VEVENT
END:VCALENDAR